BEGIN:VCALENDAR
VERSION:2.0
PRODID:-//106.9 FM The Ranch - ECPv5.6.0//NONSGML v1.0//EN
CALSCALE:GREGORIAN
METHOD:PUBLISH
X-WR-CALNAME:106.9 FM The Ranch
X-ORIGINAL-URL:https://www.1069theranch.com
X-WR-CALDESC:Events for 106.9 FM The Ranch
BEGIN:VTIMEZONE
TZID:America/Chicago
BEGIN:DAYLIGHT
TZOFFSETFROM:-0600
TZOFFSETTO:-0500
TZNAME:CDT
DTSTART:20260308T080000
END:DAYLIGHT
BEGIN:STANDARD
TZOFFSETFROM:-0500
TZOFFSETTO:-0600
TZNAME:CST
DTSTART:20261101T070000
END:STANDARD
END:VTIMEZONE
BEGIN:VEVENT
DTSTART;TZID=America/Chicago:20260421T120000
DTEND;TZID=America/Chicago:20260421T170000
DTSTAMP:20260421T081125
CREATED:20260225T175758Z
LAST-MODIFIED:20260225T175816Z
UID:80785-1776772800-1776790800@www.1069theranch.com
SUMMARY:Max & Heather Stalling / The Creekers
DESCRIPTION:at Larry Joe Taylor’s Texas Music Festival at Melody Mountain Ranch
URL:https://www.1069theranch.com/event/max-heather-stalling-the-creekers/
LOCATION:Melody Mountain Ranch\, 1290 Private Road 707\, Stephenville\, TX\,  76401\, United States
CATEGORIES:Concert
ATTACH;FMTTYPE=image/png:https://dehayf5mhw1h7.cloudfront.net/wp-content/uploads/sites/2751/2026/02/25175758/max-and-heather-stalling-2025-832.png
END:VEVENT
BEGIN:VEVENT
DTSTART;TZID=America/Chicago:20260421T180000
DTEND;TZID=America/Chicago:20260421T200000
DTSTAMP:20260421T081125
CREATED:20260416T191518Z
LAST-MODIFIED:20260416T191559Z
UID:81398-1776794400-1776801600@www.1069theranch.com
SUMMARY:Justin Slinkard
DESCRIPTION:at Heim Barbecue
URL:https://www.1069theranch.com/event/justin-slinkard/
LOCATION:Heim BBQ on The River\, 5333 White Settlement Rd\, Fort Worth\, TX\, 76114\, United States
CATEGORIES:Concert
ATTACH;FMTTYPE=image/png:https://dehayf5mhw1h7.cloudfront.net/wp-content/uploads/sites/2751/2026/04/16191518/justin-slinkard-2026-832.png
END:VEVENT
BEGIN:VEVENT
DTSTART;TZID=America/Chicago:20260422T130000
DTEND;TZID=America/Chicago:20260422T190000
DTSTAMP:20260421T081125
CREATED:20260225T181021Z
LAST-MODIFIED:20260225T181406Z
UID:80794-1776862800-1776884400@www.1069theranch.com
SUMMARY:Aaron Watson / Randall King
DESCRIPTION:at Larry Joe Taylor’s Texas Music Festival at Melody Mountain Ranch
URL:https://www.1069theranch.com/event/aaron-watson-randall-king/
LOCATION:Melody Mountain Ranch\, 1290 Private Road 707\, Stephenville\, TX\,  76401\, United States
CATEGORIES:Concert
ATTACH;FMTTYPE=image/png:https://dehayf5mhw1h7.cloudfront.net/wp-content/uploads/sites/2751/2026/02/25181021/aaron-watson-2025-832.png
END:VEVENT
BEGIN:VEVENT
DTSTART;TZID=America/Chicago:20260423T120000
DTEND;TZID=America/Chicago:20260423T233000
DTSTAMP:20260421T081125
CREATED:20260225T181934Z
LAST-MODIFIED:20260225T181954Z
UID:80797-1776945600-1776987000@www.1069theranch.com
SUMMARY:Josh Abbott Band / Mike Ryan / Logan Ryan Band / Radney Foster / Mike McClure / Courtney Patton / & More!
DESCRIPTION:at Larry Joe Taylor’s Texas Music Festival at Melody Mountain Ranch
URL:https://www.1069theranch.com/event/josh-abbott-band-mike-ryan-logan-ryan-band-radney-foster-mike-mcclure-courtney-patton-more/
LOCATION:Melody Mountain Ranch\, 1290 Private Road 707\, Stephenville\, TX\,  76401\, United States
CATEGORIES:Concert
ATTACH;FMTTYPE=image/png:https://dehayf5mhw1h7.cloudfront.net/wp-content/uploads/sites/2751/2026/02/25181934/josh-abbott-band-2024-832.png
END:VEVENT
BEGIN:VEVENT
DTSTART;TZID=America/Chicago:20260423T170000
DTEND;TZID=America/Chicago:20260423T220000
DTSTAMP:20260421T081125
CREATED:20260319T195549Z
LAST-MODIFIED:20260407T105727Z
UID:80990-1776963600-1776981600@www.1069theranch.com
SUMMARY:Silverada / Wesley Hanna
DESCRIPTION:at The Ranch Music Series 2026 at Rusty Nickel Icehouse
URL:https://www.1069theranch.com/event/silverada-wesley-hanna/
LOCATION:Rusty Nickel Icehouse\, 2836 Stanley Ave\, Fort Worth\, TX\, 76110\, United States
CATEGORIES:Concert
ATTACH;FMTTYPE=image/png:https://dehayf5mhw1h7.cloudfront.net/wp-content/uploads/sites/2751/2026/03/19195549/silverada-wesley-hanna-2026-832.png
END:VEVENT
BEGIN:VEVENT
DTSTART;TZID=America/Chicago:20260423T200000
DTEND;TZID=America/Chicago:20260423T233000
DTSTAMP:20260421T081125
CREATED:20260106T185358Z
LAST-MODIFIED:20260106T185529Z
UID:76280-1776974400-1776987000@www.1069theranch.com
SUMMARY:Tyler Childers
DESCRIPTION:at Dos Equis Pavilion
URL:https://www.1069theranch.com/event/tyler-childers/
LOCATION:Dos Equis Pavilion\, 3839 S Fitzhugh Ave\, Dallas\, 75210\, United States
CATEGORIES:Concert
ATTACH;FMTTYPE=image/png:https://dehayf5mhw1h7.cloudfront.net/wp-content/uploads/sites/2751/2026/01/06125250/tyler-childers-2025-832.png
END:VEVENT
BEGIN:VEVENT
DTSTART;TZID=America/Chicago:20260424T120000
DTEND;TZID=America/Chicago:20260424T233000
DTSTAMP:20260421T081125
CREATED:20260225T182402Z
LAST-MODIFIED:20260225T182422Z
UID:80800-1777032000-1777073400@www.1069theranch.com
SUMMARY:William Clark Green / Roger Creager / Wade Forester / Walt Wilkins / Julianna Rankin / & More!
DESCRIPTION:at Larry Joe Taylor’s Texas Music Festival at Melody Mountain Ranch
URL:https://www.1069theranch.com/event/william-clark-green-roger-creager-wade-forester-walt-wilkins-julianna-rankin-more/
LOCATION:Melody Mountain Ranch\, 1290 Private Road 707\, Stephenville\, TX\,  76401\, United States
CATEGORIES:Concert
ATTACH;FMTTYPE=image/png:https://dehayf5mhw1h7.cloudfront.net/wp-content/uploads/sites/2751/2026/02/25182402/william-clark-green-2025-832.png
END:VEVENT
BEGIN:VEVENT
DTSTART;TZID=America/Chicago:20260424T140000
DTEND;TZID=America/Chicago:20260424T190000
DTSTAMP:20260421T081125
CREATED:20260225T174924Z
LAST-MODIFIED:20260225T174943Z
UID:80779-1777039200-1777057200@www.1069theranch.com
SUMMARY:Shaboozey / Max McNown
DESCRIPTION:at Lone Star Smokeout at AT&T Stadium
URL:https://www.1069theranch.com/event/shaboozey-max-mcnown/
LOCATION:AT&T Stadium\, 1 AT&T Way\, Arlington\, TX\, 76011\, United States
CATEGORIES:Concert
ATTACH;FMTTYPE=image/png:https://dehayf5mhw1h7.cloudfront.net/wp-content/uploads/sites/2751/2026/02/25174924/shaboozey-2025-832.png
END:VEVENT
BEGIN:VEVENT
DTSTART;TZID=America/Chicago:20260424T193000
DTEND;TZID=America/Chicago:20260424T230000
DTSTAMP:20260421T081125
CREATED:20260210T174425Z
LAST-MODIFIED:20260210T174446Z
UID:80591-1777059000-1777071600@www.1069theranch.com
SUMMARY:TG Sheppard
DESCRIPTION:at Granbury Live
URL:https://www.1069theranch.com/event/tg-sheppard/
LOCATION:Granbury Live Theater\, 110 N Crockett Street\, Granbury\, TX\, 76048\, United States
CATEGORIES:Concert
ATTACH;FMTTYPE=image/png:https://dehayf5mhw1h7.cloudfront.net/wp-content/uploads/sites/2751/2026/02/10174425/tg-sheppard-2025-832-copy.png
END:VEVENT
BEGIN:VEVENT
DTSTART;TZID=America/Chicago:20260425T130000
DTEND;TZID=America/Chicago:20260425T193000
DTSTAMP:20260421T081125
CREATED:20260225T174136Z
LAST-MODIFIED:20260225T174706Z
UID:80775-1777122000-1777145400@www.1069theranch.com
SUMMARY:Koe Wetzel / Casey Donahew
DESCRIPTION:at Lone Star Smokeout at AT&T Stadium
URL:https://www.1069theranch.com/event/koe-wetzel-riley-green-shaboozey/
LOCATION:AT&T Stadium\, 1 AT&T Way\, Arlington\, TX\, 76011\, United States
CATEGORIES:Concert
ATTACH;FMTTYPE=image/png:https://dehayf5mhw1h7.cloudfront.net/wp-content/uploads/sites/2751/2026/02/25174136/koe-wetzel-2025-832.png
END:VEVENT
BEGIN:VEVENT
DTSTART;TZID=America/Chicago:20260425T130000
DTEND;TZID=America/Chicago:20260425T230000
DTSTAMP:20260421T081125
CREATED:20260225T183123Z
LAST-MODIFIED:20260225T183238Z
UID:80803-1777122000-1777158000@www.1069theranch.com
SUMMARY:Randy Rogers Band / Wade Bowen / Kevin Fowler / Presley Haile / Larry Joe Taylor / & More!
DESCRIPTION:at Larry Joe Taylor’s Texas Music Festival at Melody Mountain Ranch
URL:https://www.1069theranch.com/event/randy-rogers-band-wade-bowen-kevin-fowler-presley-haile-larry-joe-taylor-more/
LOCATION:1290 Private Road 707\, Stephenville\, TX\, 76401\, United States
CATEGORIES:Concert
ATTACH;FMTTYPE=image/png:https://dehayf5mhw1h7.cloudfront.net/wp-content/uploads/sites/2751/2026/02/25183123/randy-rogers-band-2025-832.png
END:VEVENT
BEGIN:VEVENT
DTSTART;TZID=America/Chicago:20260425T170000
DTEND;TZID=America/Chicago:20260425T233000
DTSTAMP:20260421T081125
CREATED:20260206T035854Z
LAST-MODIFIED:20260302T184438Z
UID:80260-1777136400-1777159800@www.1069theranch.com
SUMMARY:Sara Evans
DESCRIPTION:at Billy Bob’s Texas
URL:https://www.1069theranch.com/event/sara-evans-2/
LOCATION:Billy Bob’s Texas\, 2520 Rodeo Plaza\, Fort Worth\, TX\, 76164-8208\, United States
CATEGORIES:Concert
ATTACH;FMTTYPE=image/png:https://dehayf5mhw1h7.cloudfront.net/wp-content/uploads/sites/2751/2026/02/06035854/sara-evans-2025-832.png
END:VEVENT
BEGIN:VEVENT
DTSTART;TZID=America/Chicago:20260425T190000
DTEND;TZID=America/Chicago:20260425T230000
DTSTAMP:20260421T081125
CREATED:20260210T174312Z
LAST-MODIFIED:20260210T174333Z
UID:80588-1777143600-1777158000@www.1069theranch.com
SUMMARY:Jimmy Fortune
DESCRIPTION:at Granbury Live
URL:https://www.1069theranch.com/event/jimmy-fortune/
LOCATION:Granbury Live Theater\, 110 N Crockett Street\, Granbury\, TX\, 76048\, United States
CATEGORIES:Concert
ATTACH;FMTTYPE=image/png:https://dehayf5mhw1h7.cloudfront.net/wp-content/uploads/sites/2751/2026/02/10174312/jimmy-fortune-2025-832-copy.png
END:VEVENT
BEGIN:VEVENT
DTSTART;TZID=America/Chicago:20260425T190000
DTEND;TZID=America/Chicago:20260425T230000
DTSTAMP:20260421T081125
CREATED:20260414T183551Z
LAST-MODIFIED:20260414T183637Z
UID:81349-1777143600-1777158000@www.1069theranch.com
SUMMARY:Rachel Stacy
DESCRIPTION:at Platinum Music Complex NRH
URL:https://www.1069theranch.com/event/rachel-stacy-2/
LOCATION:Platinum Music Complex NRH\, 7301 NE Loop 820\, North Richland Hills\, TX\, 76180\, United States
CATEGORIES:Concert
ATTACH;FMTTYPE=image/png:https://dehayf5mhw1h7.cloudfront.net/wp-content/uploads/sites/2751/2026/04/14183551/rachel-stacy-25-832.png
END:VEVENT
BEGIN:VEVENT
DTSTART;TZID=America/Chicago:20260425T190000
DTEND;TZID=America/Chicago:20260425T233000
DTSTAMP:20260421T081125
CREATED:20260210T161731Z
LAST-MODIFIED:20260210T161753Z
UID:80553-1777143600-1777159800@www.1069theranch.com
SUMMARY:Aaron Copeland / Aaron Battle
DESCRIPTION:at Hoots Hall
URL:https://www.1069theranch.com/event/aaron-copeland-aaron-battle/
LOCATION:Hoots Hall\, 5220 FM 1187\, Burleson\, TX\, 76028\, United States
CATEGORIES:Concert
ATTACH;FMTTYPE=image/png:https://dehayf5mhw1h7.cloudfront.net/wp-content/uploads/sites/2751/2026/02/10161731/aaron-copeland-2025-832.png
END:VEVENT
BEGIN:VEVENT
DTSTART;TZID=America/Chicago:20260425T200000
DTEND;TZID=America/Chicago:20260425T230000
DTSTAMP:20260421T081125
CREATED:20260204T084406Z
LAST-MODIFIED:20260204T084406Z
UID:80203-1777147200-1777158000@www.1069theranch.com
SUMMARY:Blake Shelton
DESCRIPTION:at Lucas Oil Live at Winstar World Casino and Resort
URL:https://www.1069theranch.com/event/blake-shelton-2/
LOCATION:Lucas Oil Live at Winstar World Casino\, 777 Casino Ave\, Thackerville\, OK\, 73459\, United States
CATEGORIES:Concert
ATTACH;FMTTYPE=image/png:https://dehayf5mhw1h7.cloudfront.net/wp-content/uploads/sites/2751/2026/02/04024348/blake-shelton-25-832.png
END:VEVENT
BEGIN:VEVENT
DTSTART;TZID=America/Chicago:20260426T133000
DTEND;TZID=America/Chicago:20260426T200000
DTSTAMP:20260421T081125
CREATED:20260225T175243Z
LAST-MODIFIED:20260225T175303Z
UID:80782-1777210200-1777233600@www.1069theranch.com
SUMMARY:Riley Green / Sam Barber
DESCRIPTION:at Lone Star Smokeout at AT&T Stadium
URL:https://www.1069theranch.com/event/riley-green-sam-barber/
LOCATION:AT&T Stadium\, 1 AT&T Way\, Arlington\, TX\, 76011\, United States
CATEGORIES:Concert
ATTACH;FMTTYPE=image/png:https://dehayf5mhw1h7.cloudfront.net/wp-content/uploads/sites/2751/2026/02/25175243/riley-green-2025-832.png
END:VEVENT
BEGIN:VEVENT
DTSTART;TZID=America/Chicago:20260430T170000
DTEND;TZID=America/Chicago:20260430T220000
DTSTAMP:20260421T081125
CREATED:20260319T195852Z
LAST-MODIFIED:20260407T105838Z
UID:80994-1777568400-1777586400@www.1069theranch.com
SUMMARY:Tyler Halverson / Tristan Roberson
DESCRIPTION:at The Ranch Music Series 2026 at Rusty Nickel Icehouse
URL:https://www.1069theranch.com/event/tyler-halverson-tristan-roberson/
LOCATION:Rusty Nickel Icehouse\, 2836 Stanley Ave\, Fort Worth\, TX\, 76110\, United States
CATEGORIES:Concert
ATTACH;FMTTYPE=image/png:https://dehayf5mhw1h7.cloudfront.net/wp-content/uploads/sites/2751/2026/03/19195852/tyler-halverson-tristan-roberson-2026-832.png
END:VEVENT
BEGIN:VEVENT
DTSTART;TZID=America/Chicago:20260430T200000
DTEND;TZID=America/Chicago:20260430T230000
DTSTAMP:20260421T081125
CREATED:20260204T084649Z
LAST-MODIFIED:20260204T084649Z
UID:80206-1777579200-1777590000@www.1069theranch.com
SUMMARY:Little River Band
DESCRIPTION:at Arlington Music Hall
URL:https://www.1069theranch.com/event/little-river-band/
LOCATION:Arlington Music Hall\, 224 N Center St\, Arlington\, TX\, 76011\, United States
CATEGORIES:Concert
ATTACH;FMTTYPE=image/png:https://dehayf5mhw1h7.cloudfront.net/wp-content/uploads/sites/2751/2026/02/04024611/little-river-band-25-832.png
END:VEVENT
BEGIN:VEVENT
DTSTART;TZID=America/Chicago:20260501T200000
DTEND;TZID=America/Chicago:20260501T233000
DTSTAMP:20260421T081125
CREATED:20260206T040425Z
LAST-MODIFIED:20260206T040445Z
UID:80266-1777665600-1777678200@www.1069theranch.com
SUMMARY:Allison Krauss
DESCRIPTION:at Choctaw Casino
URL:https://www.1069theranch.com/event/allison-krauss/
LOCATION:Choctaw Casinos & Resorts Durant\, OK\, 4216 US-69\, Durant\, OK\, 74701\, United States
CATEGORIES:Concert
ATTACH;FMTTYPE=image/png:https://dehayf5mhw1h7.cloudfront.net/wp-content/uploads/sites/2751/2026/02/06040425/alison-krauss-2024-832.png
END:VEVENT
BEGIN:VEVENT
DTSTART;TZID=America/Chicago:20260501T223000
DTEND;TZID=America/Chicago:20260501T233000
DTSTAMP:20260421T081125
CREATED:20260206T040215Z
LAST-MODIFIED:20260206T040234Z
UID:80263-1777674600-1777678200@www.1069theranch.com
SUMMARY:Lee Brice
DESCRIPTION:at Billy Bob’s Texas
URL:https://www.1069theranch.com/event/lee-brice-4/
LOCATION:Billy Bob’s Texas\, 2520 Rodeo Plaza\, Fort Worth\, TX\, 76164-8208\, United States
CATEGORIES:Concert
ATTACH;FMTTYPE=image/png:https://dehayf5mhw1h7.cloudfront.net/wp-content/uploads/sites/2751/2026/02/06040215/lee-brice-2024-832.png
END:VEVENT
BEGIN:VEVENT
DTSTART;TZID=America/Chicago:20260502T203000
DTEND;TZID=America/Chicago:20260502T233000
DTSTAMP:20260421T081125
CREATED:20260210T163255Z
LAST-MODIFIED:20260210T163316Z
UID:80565-1777753800-1777764600@www.1069theranch.com
SUMMARY:Doug Stone / William Wallace Band
DESCRIPTION:at Hoots Hall
URL:https://www.1069theranch.com/event/doug-stone-william-wallace-band/
LOCATION:Hoots Hall\, 5220 FM 1187\, Burleson\, TX\, 76028\, United States
CATEGORIES:Concert
ATTACH;FMTTYPE=image/png:https://dehayf5mhw1h7.cloudfront.net/wp-content/uploads/sites/2751/2026/02/10163255/doug-stone-2025-832.png
END:VEVENT
BEGIN:VEVENT
DTSTART;TZID=America/Chicago:20260502T223000
DTEND;TZID=America/Chicago:20260502T233000
DTSTAMP:20260421T081125
CREATED:20260206T040937Z
LAST-MODIFIED:20260206T040958Z
UID:80269-1777761000-1777764600@www.1069theranch.com
SUMMARY:Mark Chesnutt
DESCRIPTION:at Billy Bob’s Texas
URL:https://www.1069theranch.com/event/mark-chesnutt/
LOCATION:Billy Bob’s Texas\, 2520 Rodeo Plaza\, Fort Worth\, TX\, 76164-8208\, United States
CATEGORIES:Concert
ATTACH;FMTTYPE=image/png:https://dehayf5mhw1h7.cloudfront.net/wp-content/uploads/sites/2751/2026/02/06040937/mark-chesnutt-2024-832.png
END:VEVENT
BEGIN:VEVENT
DTSTART;TZID=America/Chicago:20260503T200000
DTEND;TZID=America/Chicago:20260503T230000
DTSTAMP:20260421T081125
CREATED:20260414T191813Z
LAST-MODIFIED:20260414T191909Z
UID:81377-1777838400-1777849200@www.1069theranch.com
SUMMARY:Maren Morris
DESCRIPTION:at Majestic Theatre Dallas
URL:https://www.1069theranch.com/event/maren-morris-2/
LOCATION:Majestic Theatre Dallas\, 1925 Elm St\, Dallas\, TX\, 75201\, United States
CATEGORIES:Concert
ATTACH;FMTTYPE=image/png:https://dehayf5mhw1h7.cloudfront.net/wp-content/uploads/sites/2751/2026/04/14191813/maren-morris-25-832.png
END:VEVENT
BEGIN:VEVENT
DTSTART;TZID=America/Chicago:20260505T180000
DTEND;TZID=America/Chicago:20260505T200000
DTSTAMP:20260421T081125
CREATED:20260416T191822Z
LAST-MODIFIED:20260416T191858Z
UID:81401-1778004000-1778011200@www.1069theranch.com
SUMMARY:Ryan Turner
DESCRIPTION:at Heim Barbecue
URL:https://www.1069theranch.com/event/ryan-turner/
LOCATION:Heim BBQ on The River\, 5333 White Settlement Rd\, Fort Worth\, TX\, 76114\, United States
CATEGORIES:Concert
ATTACH;FMTTYPE=image/png:https://dehayf5mhw1h7.cloudfront.net/wp-content/uploads/sites/2751/2026/04/16191822/ryan-turner-26-832.png
END:VEVENT
BEGIN:VEVENT
DTSTART;TZID=America/Chicago:20260507T170000
DTEND;TZID=America/Chicago:20260507T220000
DTSTAMP:20260421T081125
CREATED:20260319T200049Z
LAST-MODIFIED:20260407T105942Z
UID:80997-1778173200-1778191200@www.1069theranch.com
SUMMARY:Roger Creager / Presley Haile
DESCRIPTION:at The Ranch Music Series 2026 at Rusty Nickel Icehouse
URL:https://www.1069theranch.com/event/roger-creager-presley-haile/
LOCATION:Rusty Nickel Icehouse\, 2836 Stanley Ave\, Fort Worth\, TX\, 76110\, United States
CATEGORIES:Concert
ATTACH;FMTTYPE=image/png:https://dehayf5mhw1h7.cloudfront.net/wp-content/uploads/sites/2751/2026/03/19200049/roger-creager-presley-haile-2026-832.png
END:VEVENT
BEGIN:VEVENT
DTSTART;TZID=America/Chicago:20260507T180000
DTEND;TZID=America/Chicago:20260507T210000
DTSTAMP:20260421T081125
CREATED:20260414T185511Z
LAST-MODIFIED:20260414T185533Z
UID:81358-1778176800-1778187600@www.1069theranch.com
SUMMARY:Dylan Wheeler
DESCRIPTION:at Hoots Hall
URL:https://www.1069theranch.com/event/dylan-wheeler-5/
LOCATION:Hoots Hall\, 5220 FM 1187\, Burleson\, TX\, 76028\, United States
CATEGORIES:Concert
ATTACH;FMTTYPE=image/png:https://dehayf5mhw1h7.cloudfront.net/wp-content/uploads/sites/2751/2026/04/14185511/dylan-wheller-26-832.png
END:VEVENT
BEGIN:VEVENT
DTSTART;TZID=America/Chicago:20260508T210000
DTEND;TZID=America/Chicago:20260508T233000
DTSTAMP:20260421T081125
CREATED:20260414T172846Z
LAST-MODIFIED:20260414T172909Z
UID:81321-1778274000-1778283000@www.1069theranch.com
SUMMARY:Rich O'Toole
DESCRIPTION:at Tannahill’s Music Hall & Lounge
URL:https://www.1069theranch.com/event/rich-otoole-3/
LOCATION:Tannahill’s Music Hall & Lounge\, 122 E Exchange Ave\, Suite 200\, Fort Worth\, TX\, 76164\, United States
CATEGORIES:Concert
ATTACH;FMTTYPE=image/png:https://dehayf5mhw1h7.cloudfront.net/wp-content/uploads/sites/2751/2026/04/14172846/rich-otoole-2022-832.png
END:VEVENT
BEGIN:VEVENT
DTSTART;TZID=America/Chicago:20260508T220000
DTEND;TZID=America/Chicago:20260508T230000
DTSTAMP:20260421T081125
CREATED:20260323T174700Z
LAST-MODIFIED:20260323T174722Z
UID:81034-1778277600-1778281200@www.1069theranch.com
SUMMARY:Marcus King Band
DESCRIPTION:at Billy Bob’s Texas
URL:https://www.1069theranch.com/event/marcus-king-band/
LOCATION:Billy Bob’s Texas\, 2520 Rodeo Plaza\, Fort Worth\, TX\, 76164-8208\, United States
CATEGORIES:Concert
ATTACH;FMTTYPE=image/png:https://dehayf5mhw1h7.cloudfront.net/wp-content/uploads/sites/2751/2026/03/23174700/marcus-king-band-26-832.png
END:VEVENT
BEGIN:VEVENT
DTSTART;TZID=America/Chicago:20260509T150000
DTEND;TZID=America/Chicago:20260509T200000
DTSTAMP:20260421T081125
CREATED:20260414T173037Z
LAST-MODIFIED:20260414T173101Z
UID:81324-1778338800-1778356800@www.1069theranch.com
SUMMARY:Travis Roberts / Cameron Allbright / Hank Weaver
DESCRIPTION:at Tannahill’s Music Hall & Lounge
URL:https://www.1069theranch.com/event/travis-roberts-cameron-allbright-hank-weaver/
LOCATION:Tannahill’s Music Hall & Lounge\, 122 E Exchange Ave\, Suite 200\, Fort Worth\, TX\, 76164\, United States
CATEGORIES:Concert
ATTACH;FMTTYPE=image/png:https://dehayf5mhw1h7.cloudfront.net/wp-content/uploads/sites/2751/2026/04/14173037/travis-robers-cameron-allbright-hank-weaver-25-832.png
END:VEVENT
END:VCALENDAR